BEGIN:VCALENDAR
VERSION:2.0
PRODID:-//Covalent Logic//Content Management System//EN
BEGIN:VEVENT
UID:1776986712049.COVALENTLOGIC.COM
DTSTART:20240106T150000Z
DTEND:20240105T190000Z
SUMMARY:Super Saturday Enrollment Event
LOCATION:
DESCRIPTION:
PRIORITY:5
END:VEVENT
END:VCALENDAR