BEGIN:VCALENDAR
VERSION:2.0
PRODID:-//Covalent Logic//Content Management System//EN
BEGIN:VEVENT
UID:1777023611206.COVALENTLOGIC.COM
DTSTART:20220525T143000Z
DTEND:20220525T143000Z
SUMMARY:ServSafe
LOCATION:
DESCRIPTION:
PRIORITY:5
END:VEVENT
END:VCALENDAR