BEGIN:VCALENDAR
VERSION:2.0
PRODID:-//Covalent Logic//Content Management System//EN
BEGIN:VEVENT
UID:1776872405888.COVALENTLOGIC.COM
DTSTART:20220510T230000Z
DTEND:20220510T230000Z
SUMMARY:SGA end of year banquet
LOCATION:
DESCRIPTION:
PRIORITY:5
END:VEVENT
END:VCALENDAR