BEGIN:VCALENDAR
VERSION:2.0
PRODID:-//Covalent Logic//Content Management System//EN
BEGIN:VEVENT
UID:1776826401952.COVALENTLOGIC.COM
DTSTART:20221117T150000Z
DTEND:20221117T230000Z
SUMMARY:Onsite Registration in Administration Building
LOCATION:
DESCRIPTION:
PRIORITY:5
END:VEVENT
END:VCALENDAR