BEGIN:VCALENDAR
VERSION:2.0
PRODID:-//Covalent Logic//Content Management System//EN
BEGIN:VEVENT
UID:1776882706617.COVALENTLOGIC.COM
DTSTART:20260422T050000Z
DTEND:20260423T045959Z
SUMMARY:Summer Virtual Registration
LOCATION:
DESCRIPTION:
PRIORITY:5
END:VEVENT
END:VCALENDAR