BEGIN:VCALENDAR
VERSION:2.0
PRODID:-//Covalent Logic//Content Management System//EN
BEGIN:VEVENT
UID:1776979648136.COVALENTLOGIC.COM
DTSTART:20260520T050000Z
DTEND:20260521T045959Z
SUMMARY:Summer Virtual Registration
LOCATION:
DESCRIPTION:
PRIORITY:5
END:VEVENT
END:VCALENDAR