BEGIN:VCALENDAR
VERSION:2.0
PRODID:-//Covalent Logic//Content Management System//EN
BEGIN:VEVENT
UID:1776882587721.COVALENTLOGIC.COM
DTSTART:20260430T050000Z
DTEND:20260501T045959Z
SUMMARY:On-Site Summer Registration
LOCATION:
DESCRIPTION:
PRIORITY:5
END:VEVENT
END:VCALENDAR